BEGIN:VCALENDAR
VERSION:2.0
PRODID:-//hacksw/handcal//NONSGML v1.0//EN
BEGIN:VEVENT
SUMMARY:Les seniors A chutent sur la pelouse des Belugas
UID:52244c13-9104-4561-8cf5-ed3407162ce2
DTSTART:20260419T133000Z
DTEND:20260419T153000Z
LOCATION:Localisation   
CATEGORIES:Sportif
STATUS:
URL;VALUE=URI:https://www.baudfc.fr/evenements/2026/04/19/les-seniors-a-chutent-sur-la-pelouse-des-belugas-2443137
END:VEVENT
END:VCALENDAR
