BEGIN:VCALENDAR
VERSION:2.0
PRODID:-//hacksw/handcal//NONSGML v1.0//EN
BEGIN:VEVENT
SUMMARY:Defaite des seniors C a Saint-Jean Brevelay
UID:d9dec84f-cb1f-4e16-aa4f-030eadf4225f
DTSTART:20260419T133000Z
DTEND:20260419T153000Z
LOCATION:Localisation   
CATEGORIES:Sportif
STATUS:
URL;VALUE=URI:https://www.baudfc.fr/evenements/2026/04/19/defaite-des-seniors-c-a-saint-jean-brevelay-2443134
END:VEVENT
END:VCALENDAR
