BEGIN:VCALENDAR
VERSION:2.0
PRODID:-//hacksw/handcal//NONSGML v1.0//EN
BEGIN:VEVENT
SUMMARY:Courte defaite des seniors B face au Stade Pontivyen
UID:2b2b93f6-b5f8-49a6-b1aa-8896addf0dfc
DTSTART:20260419T113000Z
DTEND:20260419T133000Z
LOCATION:Localisation   
CATEGORIES:Sportif
STATUS:
URL;VALUE=URI:https://www.baudfc.fr/evenements/2026/04/19/courte-defaite-des-seniors-b-face-au-stade-pontivyen-2443136
END:VEVENT
END:VCALENDAR
